BEGIN:VCALENDAR
VERSION:2.0
PRODID:-//hacksw/handcal//NONSGML v1.0//EN
BEGIN:VEVENT
SUMMARY:Meeting de Perche et poids a Grande-Synthe (stade Deconinck)
UID:83716b56-cb01-40c1-a9b8-b59db838a7b2
DTSTART:20260625T220000Z
DTEND:20260626T220000Z
LOCATION:Localisation   
CATEGORIES:Sportif
STATUS:
URL;VALUE=URI:https://www.nouveausaec.fr/evenements/2026/06/26/meeting-de-perche-et-poids-a-grande-synthe-stade-deconinck-2427612
END:VEVENT
END:VCALENDAR
