BEGIN:VCALENDAR
VERSION:2.0
PRODID:-//hacksw/handcal//NONSGML v1.0//EN
BEGIN:VEVENT
SUMMARY:Championnats de France Masters d'Epreuves Combinees et Marche
UID:70195b7d-842e-4013-a23e-7417f0e85aec
DTSTART:20260626T220000Z
DTEND:20260628T220000Z
LOCATION:Localisation   
CATEGORIES:Sportif
STATUS:
URL;VALUE=URI:https://www.nouveausaec.fr/evenements/2026/06/27/championnats-de-france-masters-depreuves-combinees-et-marche-2427713
END:VEVENT
END:VCALENDAR
