BEGIN:VCALENDAR
VERSION:2.0
PRODID:-//hacksw/handcal//NONSGML v1.0//EN
BEGIN:VEVENT
SUMMARY:Championnats de Zone CJES a Tergnier
UID:f2e2e19e-6629-4d85-b429-8e2d270c34b6
DTSTART:20260626T220000Z
DTEND:20260627T220000Z
LOCATION:Localisation   
CATEGORIES:Sportif
STATUS:
URL;VALUE=URI:https://www.nouveausaec.fr/evenements/2026/06/27/championnats-de-zone-cjes-a-tergnier-2427712
END:VEVENT
END:VCALENDAR
