BEGIN:VCALENDAR
VERSION:2.0
PRODID:-//hacksw/handcal//NONSGML v1.0//EN
BEGIN:VEVENT
SUMMARY:Regionaux Benjamins a Tourcoing
UID:39978c0d-62d1-4ad1-b238-4de0259c0dce
DTSTART:20260627T220000Z
DTEND:20260628T220000Z
LOCATION:Localisation   
CATEGORIES:Sportif
STATUS:
URL;VALUE=URI:https://www.nouveausaec.fr/evenements/2026/06/28/regionaux-benjamins-a-tourcoing-2427714
END:VEVENT
END:VCALENDAR
