BEGIN:VCALENDAR
VERSION:2.0
PRODID:-//hacksw/handcal//NONSGML v1.0//EN
BEGIN:VEVENT
SUMMARY:Meeting des Abeilles - Marquette (59)
UID:686e5946-bb35-406c-9771-1506bef2ddee
DTSTART:20260630T220000Z
DTEND:20260701T220000Z
LOCATION:Localisation   
CATEGORIES:Sportif
STATUS:
URL;VALUE=URI:https://www.nouveausaec.fr/evenements/2026/07/01/meeting-des-abeilles-marquette-59-2427715
END:VEVENT
END:VCALENDAR
