BEGIN:VCALENDAR
VERSION:2.0
PRODID:-//hacksw/handcal//NONSGML v1.0//EN
BEGIN:VEVENT
SUMMARY:Championnats de France d'Epreuves Combinees
UID:097862d8-2caf-4328-8e72-4522e3b66dae
DTSTART:20260703T220000Z
DTEND:20260705T220000Z
LOCATION:Localisation   
CATEGORIES:Sportif
STATUS:
URL;VALUE=URI:https://www.nouveausaec.fr/evenements/2026/07/04/championnats-de-france-depreuves-combinees-2427718
END:VEVENT
END:VCALENDAR
