BEGIN:VCALENDAR
VERSION:2.0
PRODID:-//hacksw/handcal//NONSGML v1.0//EN
BEGIN:VEVENT
SUMMARY:Finale Nationale des Pointes d'Or
UID:0ce835d4-573a-41cf-89b1-2455cb7be380
DTSTART:20260703T220000Z
DTEND:20260705T220000Z
LOCATION:Localisation   
CATEGORIES:Sportif
STATUS:
URL;VALUE=URI:https://www.nouveausaec.fr/evenements/2026/07/04/finale-nationale-des-pointes-dor-2427719
END:VEVENT
END:VCALENDAR
