BEGIN:VCALENDAR
VERSION:2.0
PRODID:-//hacksw/handcal//NONSGML v1.0//EN
BEGIN:VEVENT
SUMMARY:Meeting de Lancers - Abbeville (80)
UID:1a4504eb-231f-4d59-adbe-1ef8364d17c0
DTSTART:20260703T220000Z
DTEND:20260704T220000Z
LOCATION:Localisation   
CATEGORIES:Sportif
STATUS:
URL;VALUE=URI:https://www.nouveausaec.fr/evenements/2026/07/04/meeting-de-lancers-abbeville-80-2427716
END:VEVENT
END:VCALENDAR
