BEGIN:VCALENDAR
VERSION:2.0
PRODID:-//hacksw/handcal//NONSGML v1.0//EN
BEGIN:VEVENT
SUMMARY:Regionaux CJES demi-fond a Longuenesse
UID:71759047-454c-4475-86ea-f116355bfbbc
DTSTART:20260703T220000Z
DTEND:20260704T220000Z
LOCATION:Localisation   
CATEGORIES:Sportif
STATUS:
URL;VALUE=URI:https://www.nouveausaec.fr/evenements/2026/07/04/regionaux-cjes-demi-fond-a-longuenesse-2427717
END:VEVENT
END:VCALENDAR
