BEGIN:VCALENDAR
VERSION:2.0
PRODID:-//hacksw/handcal//NONSGML v1.0//EN
BEGIN:VEVENT
SUMMARY:Regionaux CJES a Lens
UID:49a325c9-c4ed-4667-9c54-f7c4871962ff
DTSTART:20260704T220000Z
DTEND:20260705T220000Z
LOCATION:Localisation   
CATEGORIES:Sportif
STATUS:
URL;VALUE=URI:https://www.nouveausaec.fr/evenements/2026/07/05/regionaux-cjes-a-lens-2427720
END:VEVENT
END:VCALENDAR
