BEGIN:VCALENDAR
VERSION:2.0
PRODID:-//hacksw/handcal//NONSGML v1.0//EN
BEGIN:VEVENT
SUMMARY:Meeting du Pas-de-Calais - Arras (62)
UID:aab30318-ff6b-45ac-b68e-b4123cb79070
DTSTART:20260707T220000Z
DTEND:20260708T220000Z
LOCATION:Localisation   
CATEGORIES:Sportif
STATUS:
URL;VALUE=URI:https://www.nouveausaec.fr/evenements/2026/07/08/meeting-du-pas-de-calais-arras-62-2427721
END:VEVENT
END:VCALENDAR
