BEGIN:VCALENDAR
VERSION:2.0
PRODID:-//hacksw/handcal//NONSGML v1.0//EN
BEGIN:VEVENT
SUMMARY:Open de France
UID:e6aaa33d-a16d-47c9-8c2b-d99255192cd4
DTSTART:20260710T220000Z
DTEND:20260712T220000Z
LOCATION:Localisation   
CATEGORIES:Sportif
STATUS:
URL;VALUE=URI:https://www.nouveausaec.fr/evenements/2026/07/11/open-de-france-2427722
END:VEVENT
END:VCALENDAR
