BEGIN:VCALENDAR
VERSION:2.0
PRODID:-//hacksw/handcal//NONSGML v1.0//EN
BEGIN:VEVENT
SUMMARY:Coupe de France des Ligues U16
UID:4fb5612d-200b-4eb3-9ad5-5ac1ee549c57
DTSTART:20260713T220000Z
DTEND:20260714T220000Z
LOCATION:Localisation   
CATEGORIES:Sportif
STATUS:
URL;VALUE=URI:https://www.nouveausaec.fr/evenements/2026/07/14/coupe-de-france-des-ligues-u16-2427723
END:VEVENT
END:VCALENDAR
