BEGIN:VCALENDAR
VERSION:2.0
PRODID:-//hacksw/handcal//NONSGML v1.0//EN
BEGIN:VEVENT
SUMMARY:Championnats de France Avenir
UID:81c7b313-ad92-4db1-8f37-c3a6ef8d6f6e
DTSTART:20260715T220000Z
DTEND:20260719T220000Z
LOCATION:Localisation   
CATEGORIES:Sportif
STATUS:
URL;VALUE=URI:https://www.nouveausaec.fr/evenements/2026/07/16/championnats-de-france-avenir-2427724
END:VEVENT
END:VCALENDAR
