BEGIN:VCALENDAR
VERSION:2.0
PRODID:-//hacksw/handcal//NONSGML v1.0//EN
BEGIN:VEVENT
SUMMARY:Championnats de France Elite
UID:46be8785-d7bf-48fd-8a3e-eeef8219b1d3
DTSTART:20260723T220000Z
DTEND:20260726T220000Z
LOCATION:Localisation   
CATEGORIES:Sportif
STATUS:
URL;VALUE=URI:https://www.nouveausaec.fr/evenements/2026/07/24/championnats-de-france-elite-2427725
END:VEVENT
END:VCALENDAR
