BEGIN:VCALENDAR
VERSION:2.0
PRODID:-//hacksw/handcal//NONSGML v1.0//EN
BEGIN:VEVENT
SUMMARY:Challenge National des Ligues a la Marche
UID:9bd1eb27-604a-471c-947a-27d5e9c6e7e9
DTSTART:20261003T220000Z
DTEND:20261004T220000Z
LOCATION:Localisation   
CATEGORIES:Sportif
STATUS:
URL;VALUE=URI:https://www.nouveausaec.fr/evenements/2026/10/04/challenge-national-des-ligues-a-la-marche-2427727
END:VEVENT
END:VCALENDAR
